BEGIN:VCALENDAR
VERSION:2.0
PRODID:-//Episcopal Diocese of Northwestern Pennsylvania - ECPv6.15.20//NONSGML v1.0//EN
CALSCALE:GREGORIAN
METHOD:PUBLISH
X-WR-CALNAME:Episcopal Diocese of Northwestern Pennsylvania
X-ORIGINAL-URL:https://dionwpa.org
X-WR-CALDESC:Events for Episcopal Diocese of Northwestern Pennsylvania
REFRESH-INTERVAL;VALUE=DURATION:PT1H
X-Robots-Tag:noindex
X-PUBLISHED-TTL:PT1H
BEGIN:VTIMEZONE
TZID:America/New_York
BEGIN:DAYLIGHT
TZOFFSETFROM:-0500
TZOFFSETTO:-0400
TZNAME:EDT
DTSTART:20240310T070000
END:DAYLIGHT
BEGIN:STANDARD
TZOFFSETFROM:-0400
TZOFFSETTO:-0500
TZNAME:EST
DTSTART:20241103T060000
END:STANDARD
BEGIN:DAYLIGHT
TZOFFSETFROM:-0500
TZOFFSETTO:-0400
TZNAME:EDT
DTSTART:20250309T070000
END:DAYLIGHT
BEGIN:STANDARD
TZOFFSETFROM:-0400
TZOFFSETTO:-0500
TZNAME:EST
DTSTART:20251102T060000
END:STANDARD
BEGIN:DAYLIGHT
TZOFFSETFROM:-0500
TZOFFSETTO:-0400
TZNAME:EDT
DTSTART:20260308T070000
END:DAYLIGHT
BEGIN:STANDARD
TZOFFSETFROM:-0400
TZOFFSETTO:-0500
TZNAME:EST
DTSTART:20261101T060000
END:STANDARD
BEGIN:DAYLIGHT
TZOFFSETFROM:-0500
TZOFFSETTO:-0400
TZNAME:EDT
DTSTART:20270314T070000
END:DAYLIGHT
BEGIN:STANDARD
TZOFFSETFROM:-0400
TZOFFSETTO:-0500
TZNAME:EST
DTSTART:20271107T060000
END:STANDARD
END:VTIMEZONE
BEGIN:VEVENT
DTSTART;TZID=America/New_York:20251206T130000
DTEND;TZID=America/New_York:20251206T150000
DTSTAMP:20260423T164337
CREATED:20251201T151212Z
LAST-MODIFIED:20251201T151212Z
UID:967-1765026000-1765033200@dionwpa.org
SUMMARY:Final Service at St. Laurence in Osceola Mills
DESCRIPTION:A final service at St. Laurence in Osceola Mills will be held on Saturday\, December 6 at 1:00 p.m.  All are welcome to gather for this closing liturgy\, giving thanks for the beautiful life and ministry of the parish and all who have worshiped there.
URL:https://dionwpa.org/event/final-service-at-st-laurence-in-osceola-mills/
LOCATION:St. Laurence Church\, Osceola Mills\, PA
END:VEVENT
BEGIN:VEVENT
DTSTART;VALUE=DATE:20251207
DTEND;VALUE=DATE:20251208
DTSTAMP:20260423T164337
CREATED:20250710T221507Z
LAST-MODIFIED:20250822T150523Z
UID:570-1765065600-1765151999@dionwpa.org
SUMMARY:Bishop Benfield Visitation
DESCRIPTION:St. Peter’s Church\, Waterford
URL:https://dionwpa.org/event/bishop-benfield-visitation-9/
LOCATION:St. Peter’s Church\, Waterford\, 100 E 3rd St\, Waterford\, PA\, 16441
CATEGORIES:Bishop's Visitations
END:VEVENT
BEGIN:VEVENT
DTSTART;VALUE=DATE:20251214
DTEND;VALUE=DATE:20251215
DTSTAMP:20260423T164337
CREATED:20250710T221814Z
LAST-MODIFIED:20250822T150523Z
UID:573-1765670400-1765756799@dionwpa.org
SUMMARY:Bishop Benfield Visitation
DESCRIPTION:St. Clement’s Church\, Greenville
URL:https://dionwpa.org/event/bishop-benfield-visitation-10/
LOCATION:St. Clement’s Church\, Greenville\, 103 Clinton St\, Greenville\, PA\, 16125
CATEGORIES:Bishop's Visitations
END:VEVENT
BEGIN:VEVENT
DTSTART;TZID=America/New_York:20251216T110000
DTEND;TZID=America/New_York:20251216T110000
DTSTAMP:20260423T164337
CREATED:20250618T144037Z
LAST-MODIFIED:20250618T144037Z
UID:317-1765882800-1765882800@dionwpa.org
SUMMARY:Standing Committee Meeting
DESCRIPTION:Regular meeting of the Standing Committee
URL:https://dionwpa.org/event/standing-committee-meeting-12-16-25/
LOCATION:Zoom
CATEGORIES:Standing Committee
END:VEVENT
BEGIN:VEVENT
DTSTART;TZID=America/New_York:20251216T180000
DTEND;TZID=America/New_York:20251216T180000
DTSTAMP:20260423T164337
CREATED:20250618T144647Z
LAST-MODIFIED:20250618T144647Z
UID:330-1765908000-1765908000@dionwpa.org
SUMMARY:Diocesan Council Meeting
DESCRIPTION:Regular meeting of the Diocesan Council
URL:https://dionwpa.org/event/diocesan-council-meeting-12-16-25/
LOCATION:Zoom
CATEGORIES:Diocesan Council
END:VEVENT
BEGIN:VEVENT
DTSTART;VALUE=DATE:20260111
DTEND;VALUE=DATE:20260112
DTSTAMP:20260423T164337
CREATED:20250710T222011Z
LAST-MODIFIED:20250822T150523Z
UID:576-1768089600-1768175999@dionwpa.org
SUMMARY:Bishop Benfield Visitation
DESCRIPTION:St. Mark’s\, Erie
URL:https://dionwpa.org/event/bishop-benfield-visitation-11/
LOCATION:St. Mark’s\, Erie\, 4701 Old French Rd\, Erie\, PA\, 16509
CATEGORIES:Bishop's Visitations
END:VEVENT
BEGIN:VEVENT
DTSTART;VALUE=DATE:20260118
DTEND;VALUE=DATE:20260119
DTSTAMP:20260423T164337
CREATED:20250710T222115Z
LAST-MODIFIED:20250822T150523Z
UID:579-1768694400-1768780799@dionwpa.org
SUMMARY:Bishop Benfield Visitation
DESCRIPTION:St. John’s\, Sharon
URL:https://dionwpa.org/event/bishop-benfield-visitation-12/
LOCATION:St. John’s\, Sharon\, 226 W State St\, Sharon\, PA\, 16146
CATEGORIES:Bishop's Visitations
END:VEVENT
BEGIN:VEVENT
DTSTART;TZID=America/New_York:20260219T190000
DTEND;TZID=America/New_York:20260319T200000
DTSTAMP:20260423T164337
CREATED:20260224T195151Z
LAST-MODIFIED:20260224T195151Z
UID:1144-1771527600-1773950400@dionwpa.org
SUMMARY:Lenten Bible Study Series
DESCRIPTION:The Search Committee will be leading an online session each week of the study\, for five Thursdays starting tomorrow\, February 19\, from 7pm-8pm.
URL:https://dionwpa.org/event/lenten-bible-study-series/
END:VEVENT
BEGIN:VEVENT
DTSTART;VALUE=DATE:20260315
DTEND;VALUE=DATE:20260316
DTSTAMP:20260423T164337
CREATED:20250919T170625Z
LAST-MODIFIED:20250922T152108Z
UID:707-1773532800-1773619199@dionwpa.org
SUMMARY:Bishop Benfield Visitation
DESCRIPTION:
URL:https://dionwpa.org/event/bishop-benfield-visitation-13/
LOCATION:Emmanuel Episcopal Church\, Corry\, 327 N Center St\, Corry\, PA\, 16407
CATEGORIES:Bishop's Visitations
END:VEVENT
BEGIN:VEVENT
DTSTART;VALUE=DATE:20260322
DTEND;VALUE=DATE:20260323
DTSTAMP:20260423T164337
CREATED:20250919T170820Z
LAST-MODIFIED:20250922T152056Z
UID:710-1774137600-1774223999@dionwpa.org
SUMMARY:Bishop Benfield Visitation
DESCRIPTION:
URL:https://dionwpa.org/event/bishop-benfield-visitation-14/
LOCATION:Memorial Church of Our Father\, Foxburg\, 110 Church St\, Foxburg\, 16036
CATEGORIES:Bishop's Visitations
END:VEVENT
BEGIN:VEVENT
DTSTART;TZID=America/New_York:20260331T110000
DTEND;TZID=America/New_York:20260331T120000
DTSTAMP:20260423T164337
CREATED:20260224T193834Z
LAST-MODIFIED:20260224T193834Z
UID:1130-1774954800-1774958400@dionwpa.org
SUMMARY:Chrism Liturgy
DESCRIPTION:Join the Episcopal Diocese of NWPA for the Annual Chrism Liturgy and Renewal of Ordination Vows on Tuesday\, March 31 at 11:00 a.m.  The service will be held at First Lutheran Church\, 109 West 3rd Avenue\, Warren\, PA. Bishop Kristen Papson will preside and preach\, with clergy from across the diocese sharing in the leadership of the liturgy. Clergy are invited to vest (red stoles). A lunch will follow the service. \nEmail nwpasynodelca@gmail.com to make a reservation!
URL:https://dionwpa.org/event/chrism-liturgy/
END:VEVENT
BEGIN:VEVENT
DTSTART;VALUE=DATE:20260419
DTEND;VALUE=DATE:20260420
DTSTAMP:20260423T164337
CREATED:20250919T171001Z
LAST-MODIFIED:20250922T152044Z
UID:713-1776556800-1776643199@dionwpa.org
SUMMARY:Bishop Benfield Visitation
DESCRIPTION:
URL:https://dionwpa.org/event/bishop-benfield-visitation-15/
LOCATION:Holy Cross Episcopal Church\, North East\, 51 W Main St\, North East\, PA\, 16428
CATEGORIES:Bishop's Visitations
END:VEVENT
BEGIN:VEVENT
DTSTART;VALUE=DATE:20260426
DTEND;VALUE=DATE:20260427
DTSTAMP:20260423T164337
CREATED:20250919T171112Z
LAST-MODIFIED:20250922T152027Z
UID:716-1777161600-1777247999@dionwpa.org
SUMMARY:Bishop Benfield Visitation
DESCRIPTION:
URL:https://dionwpa.org/event/bishop-benfield-visitation-16/
LOCATION:Christ Episcopal Church\, Meadville\, 870 Diamond Park Sq\, Meadville\, PA 16335
CATEGORIES:Bishop's Visitations
END:VEVENT
BEGIN:VEVENT
DTSTART;VALUE=DATE:20260517
DTEND;VALUE=DATE:20260518
DTSTAMP:20260423T164337
CREATED:20250919T171326Z
LAST-MODIFIED:20250922T152014Z
UID:719-1778976000-1779062399@dionwpa.org
SUMMARY:Bishop Benfield Visitation
DESCRIPTION:
URL:https://dionwpa.org/event/bishop-benfield-visitation-17/
LOCATION:St. Stephen’s Episcopal Church\, Fairview\, 1070 Dutch Rd\, Fairview\, PA 16415
CATEGORIES:Bishop's Visitations
END:VEVENT
BEGIN:VEVENT
DTSTART;VALUE=DATE:20260524
DTEND;VALUE=DATE:20260525
DTSTAMP:20260423T164337
CREATED:20250919T171416Z
LAST-MODIFIED:20250922T151951Z
UID:722-1779580800-1779667199@dionwpa.org
SUMMARY:Bishop Benfield Visitation
DESCRIPTION:
URL:https://dionwpa.org/event/bishop-benfield-visitation-18/
LOCATION:St. James Memorial Episcopal Church\, Titusville\, 112 E Main St\, Titusville\, PA 16354
CATEGORIES:Bishop's Visitations
END:VEVENT
BEGIN:VEVENT
DTSTART;VALUE=DATE:20260614
DTEND;VALUE=DATE:20260615
DTSTAMP:20260423T164337
CREATED:20250919T171506Z
LAST-MODIFIED:20250922T151935Z
UID:725-1781395200-1781481599@dionwpa.org
SUMMARY:Bishop Benfield Visitation
DESCRIPTION:
URL:https://dionwpa.org/event/bishop-benfield-visitation-19/
LOCATION:Church of the Ascension\, Bradford\, 26 Chautauqua Pl\, Bradford\, PA 16701
CATEGORIES:Bishop's Visitations
END:VEVENT
BEGIN:VEVENT
DTSTART;VALUE=DATE:20260614
DTEND;VALUE=DATE:20260621
DTSTAMP:20260423T164337
CREATED:20260224T194512Z
LAST-MODIFIED:20260224T194512Z
UID:1138-1781395200-1781999999@dionwpa.org
SUMMARY:Diocesan Summer Camp
DESCRIPTION:Campers are invited to join us June 14-20\, 2026 at Camp Nazareth. Registration is now open. Scholarships are available. Contact Carly Rowe or Melinda Hall for more information.
URL:https://dionwpa.org/event/diocesan-summer-camp/
END:VEVENT
BEGIN:VEVENT
DTSTART;VALUE=DATE:20260621
DTEND;VALUE=DATE:20260622
DTSTAMP:20260423T164337
CREATED:20250919T171559Z
LAST-MODIFIED:20250922T151923Z
UID:728-1782000000-1782086399@dionwpa.org
SUMMARY:Bishop Benfield Visitation
DESCRIPTION:
URL:https://dionwpa.org/event/bishop-benfield-visitation-20/
LOCATION:Church of the Holy Trinity\, Brookville\, 62 Pickering St\, Brookville\, PA 15825
CATEGORIES:Bishop's Visitations
END:VEVENT
BEGIN:VEVENT
DTSTART;VALUE=DATE:20260707
DTEND;VALUE=DATE:20260710
DTSTAMP:20260423T164337
CREATED:20260224T194714Z
LAST-MODIFIED:20260224T194714Z
UID:1140-1783382400-1783641599@dionwpa.org
SUMMARY:Bishop Candidate Walk-Abouts
DESCRIPTION:
URL:https://dionwpa.org/event/bishop-candidate-walk-abouts/
END:VEVENT
BEGIN:VEVENT
DTSTART;VALUE=DATE:20260719
DTEND;VALUE=DATE:20260720
DTSTAMP:20260423T164337
CREATED:20250919T171632Z
LAST-MODIFIED:20250922T151908Z
UID:731-1784419200-1784505599@dionwpa.org
SUMMARY:Bishop Benfield Visitation
DESCRIPTION:
URL:https://dionwpa.org/event/bishop-benfield-visitation-21/
LOCATION:Trinity Memorial Church\, Warren\, 444 Pennsylvania Ave W\, Warren\, PA 16365
CATEGORIES:Bishop's Visitations
END:VEVENT
BEGIN:VEVENT
DTSTART;VALUE=DATE:20260726
DTEND;VALUE=DATE:20260727
DTSTAMP:20260423T164337
CREATED:20250919T171955Z
LAST-MODIFIED:20250922T151859Z
UID:734-1785024000-1785110399@dionwpa.org
SUMMARY:Bishop Benfield Visitation
DESCRIPTION:
URL:https://dionwpa.org/event/bishop-benfield-visitation-22/
LOCATION:Christ Church\, Oil City\, 16 Central Avenue Oil City\, PA 16301
CATEGORIES:Bishop's Visitations
END:VEVENT
BEGIN:VEVENT
DTSTART;VALUE=DATE:20260808
DTEND;VALUE=DATE:20260809
DTSTAMP:20260423T164337
CREATED:20260224T194221Z
LAST-MODIFIED:20260224T194221Z
UID:1134-1786147200-1786233599@dionwpa.org
SUMMARY:Special Diocesan Convention
DESCRIPTION:Special Convention of the Diocese of Northwestern Pennsylvania to Elect a Bishop: \nSaturday\, August 8\, 2026 at the Cathedral of St. Paul in Erie\, Pennsylvania\nDelegate Forms are now due to the Diocesan Office.\nRegistration Materials will be available soon.
URL:https://dionwpa.org/event/special-diocesan-convention/
END:VEVENT
BEGIN:VEVENT
DTSTART;VALUE=DATE:20260809
DTEND;VALUE=DATE:20260810
DTSTAMP:20260423T164337
CREATED:20250919T172049Z
LAST-MODIFIED:20250922T151849Z
UID:737-1786233600-1786319999@dionwpa.org
SUMMARY:Bishop Benfield Visitation
DESCRIPTION:
URL:https://dionwpa.org/event/bishop-benfield-visitation-23/
LOCATION:St. John’s Episcopal Church\, Kane\, 427 Chase St\, Kane\, PA 16735
CATEGORIES:Bishop's Visitations
END:VEVENT
BEGIN:VEVENT
DTSTART;VALUE=DATE:20260816
DTEND;VALUE=DATE:20260817
DTSTAMP:20260423T164337
CREATED:20250919T172139Z
LAST-MODIFIED:20250922T151805Z
UID:740-1786838400-1786924799@dionwpa.org
SUMMARY:Bishop Benfield Visitation
DESCRIPTION:
URL:https://dionwpa.org/event/bishop-benfield-visitation-24/
LOCATION:St. Augustine Canterbury Church\, Edinboro\, 427 W Plum St\, Edinboro\, PA 16412
CATEGORIES:Bishop's Visitations
END:VEVENT
BEGIN:VEVENT
DTSTART;VALUE=DATE:20260913
DTEND;VALUE=DATE:20260914
DTSTAMP:20260423T164337
CREATED:20250919T172223Z
LAST-MODIFIED:20250922T151750Z
UID:743-1789257600-1789343999@dionwpa.org
SUMMARY:Bishop Benfield Visitation
DESCRIPTION:
URL:https://dionwpa.org/event/bishop-benfield-visitation-25/
LOCATION:St. Luke’s Episcopal Church\, Smethport\, 602 W Main St\, Smethport\, PA 16749
CATEGORIES:Bishop's Visitations
END:VEVENT
BEGIN:VEVENT
DTSTART;VALUE=DATE:20260920
DTEND;VALUE=DATE:20260921
DTSTAMP:20260423T164337
CREATED:20250919T172327Z
LAST-MODIFIED:20250922T151737Z
UID:746-1789862400-1789948799@dionwpa.org
SUMMARY:Bishop Benfield Visitation
DESCRIPTION:
URL:https://dionwpa.org/event/bishop-benfield-visitation-26/
LOCATION:Church of Our Savior\, DuBois\, 400 Liberty Blvd\, DuBois\, PA 15801
CATEGORIES:Bishop's Visitations
END:VEVENT
BEGIN:VEVENT
DTSTART;VALUE=DATE:20261018
DTEND;VALUE=DATE:20261019
DTSTAMP:20260423T164337
CREATED:20250919T172645Z
LAST-MODIFIED:20250922T151725Z
UID:749-1792281600-1792367999@dionwpa.org
SUMMARY:Bishop Benfield Visitation
DESCRIPTION:
URL:https://dionwpa.org/event/bishop-benfield-visitation-27/
LOCATION:St. Agnes Church\, St. Marys\, 209 N St Marys St\, St Marys\, PA 15857
CATEGORIES:Bishop's Visitations
END:VEVENT
BEGIN:VEVENT
DTSTART;VALUE=DATE:20261025
DTEND;VALUE=DATE:20261026
DTSTAMP:20260423T164337
CREATED:20250919T173340Z
LAST-MODIFIED:20250922T151700Z
UID:752-1792886400-1792972799@dionwpa.org
SUMMARY:Bishop Benfield Visitation
DESCRIPTION:
URL:https://dionwpa.org/event/bishop-benfield-visitation-28/
LOCATION:St. Andrew’s Church\, Clearfield\, 102 E Cherry St\, Clearfield\, PA 16830
CATEGORIES:Bishop's Visitations
END:VEVENT
BEGIN:VEVENT
DTSTART;VALUE=DATE:20261106
DTEND;VALUE=DATE:20261108
DTSTAMP:20260423T164337
CREATED:20260224T194336Z
LAST-MODIFIED:20260224T194336Z
UID:1136-1793923200-1794095999@dionwpa.org
SUMMARY:Diocesan Convention 2026
DESCRIPTION:Friday\, November 6 & Saturday\, November 7 at The Courtyard Mariott\, Erie\, Pennsylvania. Watch for more details!
URL:https://dionwpa.org/event/diocesan-convention-2026/
END:VEVENT
BEGIN:VEVENT
DTSTART;VALUE=DATE:20261108
DTEND;VALUE=DATE:20261109
DTSTAMP:20260423T164337
CREATED:20250919T173425Z
LAST-MODIFIED:20250922T151550Z
UID:755-1794096000-1794182399@dionwpa.org
SUMMARY:Bishop Benfield Visitation
DESCRIPTION:
URL:https://dionwpa.org/event/bishop-benfield-visitation-29/
LOCATION:St. Mary’s\, Lawrence Park\, 662 Silliman Ave\, Erie\, PA 16511
CATEGORIES:Bishop's Visitations
END:VEVENT
END:VCALENDAR