BEGIN:VCALENDAR
VERSION:2.0
PRODID:-//Episcopal Diocese of Northwestern Pennsylvania - ECPv6.15.20//NONSGML v1.0//EN
CALSCALE:GREGORIAN
METHOD:PUBLISH
X-WR-CALNAME:Episcopal Diocese of Northwestern Pennsylvania
X-ORIGINAL-URL:https://dionwpa.org
X-WR-CALDESC:Events for Episcopal Diocese of Northwestern Pennsylvania
REFRESH-INTERVAL;VALUE=DURATION:PT1H
X-Robots-Tag:noindex
X-PUBLISHED-TTL:PT1H
BEGIN:VTIMEZONE
TZID:America/New_York
BEGIN:DAYLIGHT
TZOFFSETFROM:-0500
TZOFFSETTO:-0400
TZNAME:EDT
DTSTART:20240310T070000
END:DAYLIGHT
BEGIN:STANDARD
TZOFFSETFROM:-0400
TZOFFSETTO:-0500
TZNAME:EST
DTSTART:20241103T060000
END:STANDARD
BEGIN:DAYLIGHT
TZOFFSETFROM:-0500
TZOFFSETTO:-0400
TZNAME:EDT
DTSTART:20250309T070000
END:DAYLIGHT
BEGIN:STANDARD
TZOFFSETFROM:-0400
TZOFFSETTO:-0500
TZNAME:EST
DTSTART:20251102T060000
END:STANDARD
BEGIN:DAYLIGHT
TZOFFSETFROM:-0500
TZOFFSETTO:-0400
TZNAME:EDT
DTSTART:20260308T070000
END:DAYLIGHT
BEGIN:STANDARD
TZOFFSETFROM:-0400
TZOFFSETTO:-0500
TZNAME:EST
DTSTART:20261101T060000
END:STANDARD
END:VTIMEZONE
BEGIN:VEVENT
DTSTART;VALUE=DATE:20250919
DTEND;VALUE=DATE:20250921
DTSTAMP:20260423T195647
CREATED:20250820T185724Z
LAST-MODIFIED:20250820T185724Z
UID:634-1758240000-1758412799@dionwpa.org
SUMMARY:Aspirants' Retreat
DESCRIPTION:
URL:https://dionwpa.org/event/aspirants-retreat/
LOCATION:Church of the Epiphany\, Grove City\, PA
END:VEVENT
BEGIN:VEVENT
DTSTART;TZID=America/New_York:20250916T180000
DTEND;TZID=America/New_York:20250916T180000
DTSTAMP:20260423T195647
CREATED:20250618T144350Z
LAST-MODIFIED:20250618T144350Z
UID:323-1758045600-1758045600@dionwpa.org
SUMMARY:Diocesan Council Meeting
DESCRIPTION:Regular meeting of the Diocesan Council
URL:https://dionwpa.org/event/diocesan-council-meeting-9-16-25/
LOCATION:Zoom
CATEGORIES:Diocesan Council
END:VEVENT
BEGIN:VEVENT
DTSTART;TZID=America/New_York:20250916T110000
DTEND;TZID=America/New_York:20250916T110000
DTSTAMP:20260423T195647
CREATED:20250618T143438Z
LAST-MODIFIED:20250618T143438Z
UID:309-1758020400-1758020400@dionwpa.org
SUMMARY:Standing Committee Meeting
DESCRIPTION:Regular meeting of the Standing Committee
URL:https://dionwpa.org/event/standing-committee-meeting-9-16-25/
LOCATION:Zoom
CATEGORIES:Standing Committee
END:VEVENT
BEGIN:VEVENT
DTSTART;VALUE=DATE:20250914
DTEND;VALUE=DATE:20250915
DTSTAMP:20260423T195647
CREATED:20250710T220215Z
LAST-MODIFIED:20250822T150523Z
UID:552-1757808000-1757894399@dionwpa.org
SUMMARY:Bishop Benfield Visitation
DESCRIPTION:Emmanuel Church\, Emporium
URL:https://dionwpa.org/event/bishop-benfield-visitation-3/
LOCATION:Emmanuel Church\, Emporium\, 144 East 4th Street\, Emporium\, PA\, 15834
CATEGORIES:Bishop's Visitations
END:VEVENT
BEGIN:VEVENT
DTSTART;VALUE=DATE:20250824
DTEND;VALUE=DATE:20250825
DTSTAMP:20260423T195647
CREATED:20250710T220104Z
LAST-MODIFIED:20250822T150523Z
UID:549-1755993600-1756079999@dionwpa.org
SUMMARY:Bishop Benfield Visitation
DESCRIPTION:Resurrection Church\, Hermitage
URL:https://dionwpa.org/event/bishop-benfield-visitation-2/
LOCATION:Resurrection Church\, Hermitage\, 5130 E State St\, Hermitage\, PA\, 16148
CATEGORIES:Bishop's Visitations
END:VEVENT
BEGIN:VEVENT
DTSTART;TZID=America/New_York:20250819T180000
DTEND;TZID=America/New_York:20250819T180000
DTSTAMP:20260423T195647
CREATED:20250618T144241Z
LAST-MODIFIED:20250618T144241Z
UID:321-1755626400-1755626400@dionwpa.org
SUMMARY:Diocesan Council Meeting
DESCRIPTION:Regular meeting of the Diocesan Council
URL:https://dionwpa.org/event/diocesan-council-meeting-8-19-25/
LOCATION:Zoom
CATEGORIES:Diocesan Council
END:VEVENT
BEGIN:VEVENT
DTSTART;TZID=America/New_York:20250819T110000
DTEND;TZID=America/New_York:20250819T110000
DTSTAMP:20260423T195647
CREATED:20250618T143229Z
LAST-MODIFIED:20250618T143511Z
UID:307-1755601200-1755601200@dionwpa.org
SUMMARY:Standing Committee Meeting
DESCRIPTION:Regular meeting of the Standing Committee
URL:https://dionwpa.org/event/standing-committee-meeting-8-19-25/
LOCATION:Zoom
CATEGORIES:Standing Committee
END:VEVENT
BEGIN:VEVENT
DTSTART;VALUE=DATE:20250817
DTEND;VALUE=DATE:20250818
DTSTAMP:20260423T195647
CREATED:20250710T215907Z
LAST-MODIFIED:20250822T150523Z
UID:546-1755388800-1755475199@dionwpa.org
SUMMARY:Bishop Benfield Visitation
DESCRIPTION:Grace Church\, Ridgway
URL:https://dionwpa.org/event/bishop-benfield-visitation/
LOCATION:Grace Church\, Ridgway
CATEGORIES:Bishop's Visitations
END:VEVENT
BEGIN:VEVENT
DTSTART;TZID=America/New_York:20250715T180000
DTEND;TZID=America/New_York:20250715T180000
DTSTAMP:20260423T195647
CREATED:20250618T144147Z
LAST-MODIFIED:20250618T144147Z
UID:319-1752602400-1752602400@dionwpa.org
SUMMARY:Diocesan Council Meeting
DESCRIPTION:Regular meeting of the Diocesan Council
URL:https://dionwpa.org/event/diocesan-council-meeting-7-15-25/
LOCATION:Zoom
CATEGORIES:Diocesan Council
END:VEVENT
BEGIN:VEVENT
DTSTART;TZID=America/New_York:20250715T110000
DTEND;TZID=America/New_York:20250715T110000
DTSTAMP:20260423T195647
CREATED:20250618T143027Z
LAST-MODIFIED:20250618T143456Z
UID:304-1752577200-1752577200@dionwpa.org
SUMMARY:Standing Committee Meeting
DESCRIPTION:Regular meeting of the Standing Committee
URL:https://dionwpa.org/event/standing-committee-meeting-7-15-25/
LOCATION:Zoom
CATEGORIES:Standing Committee
END:VEVENT
END:VCALENDAR